BEGIN:VCALENDAR
VERSION:2.0
PRODID:-//De Slepers - ECPv6.4.0//NONSGML v1.0//EN
CALSCALE:GREGORIAN
METHOD:PUBLISH
X-ORIGINAL-URL:https://deslepers.be
X-WR-CALDESC:Evenementen voor De Slepers
REFRESH-INTERVAL;VALUE=DURATION:PT1H
X-Robots-Tag:noindex
X-PUBLISHED-TTL:PT1H
BEGIN:VTIMEZONE
TZID:Europe/Brussels
BEGIN:DAYLIGHT
TZOFFSETFROM:+0100
TZOFFSETTO:+0200
TZNAME:CEST
DTSTART:20240331T010000
END:DAYLIGHT
BEGIN:STANDARD
TZOFFSETFROM:+0200
TZOFFSETTO:+0100
TZNAME:CET
DTSTART:20241027T010000
END:STANDARD
END:VTIMEZONE
BEGIN:VEVENT
DTSTART;TZID=Europe/Brussels:20240602T080000
DTEND;TZID=Europe/Brussels:20240602T120000
DTSTAMP:20260420T234640
CREATED:20240306T195838Z
LAST-MODIFIED:20240306T195838Z
UID:987-1717315200-1717329600@deslepers.be
SUMMARY:Zwembadoefeningen
DESCRIPTION:De slepers nemen deel aan de zwembadoefeningen in het gemeentelijk zwembad Koksijde
URL:https://deslepers.be/index.php/evenementen/zwembadoefeningen-2
LOCATION:KOKSIJDE\, KOKSIJDE
END:VEVENT
BEGIN:VEVENT
DTSTART;TZID=Europe/Brussels:20240621T190000
DTEND;TZID=Europe/Brussels:20240621T233000
DTSTAMP:20260420T234640
CREATED:20240306T200019Z
LAST-MODIFIED:20240306T200019Z
UID:989-1718996400-1719012600@deslepers.be
SUMMARY:Feest Paardevissers\, aanstelling Mieke Garnaal
DESCRIPTION:Locatie: Witte Burg\, Oostduinkerke
URL:https://deslepers.be/index.php/evenementen/feest-paardevissers-aanstelling-mieke-garnaal
LOCATION:OOSTDUINKERKE\, OOSTDUINKERKE
END:VEVENT
BEGIN:VEVENT
DTSTART;TZID=Europe/Brussels:20240628T110000
DTEND;TZID=Europe/Brussels:20240628T170000
DTSTAMP:20260420T234640
CREATED:20240306T193902Z
LAST-MODIFIED:20240306T193902Z
UID:967-1719572400-1719594000@deslepers.be
SUMMARY:Clubkruien
DESCRIPTION:Agenda:\n1.	Samenkomst aan centrum Zeedijk Oostduinkerke om 11h10\n2.	Vertrek naar zee om 11h30\n3.	Kruien om 11h45 tot 13h45\n4.	Demonstratie koken garnalen op Zeedijk Oostduinkerke vanaf 14h45
URL:https://deslepers.be/index.php/evenementen/clubkruien-19
LOCATION:ODK-centrum\, Astridplein\, Oostduinkerke\, Belgium\, België
END:VEVENT
BEGIN:VEVENT
DTSTART;VALUE=DATE:20240629
DTEND;VALUE=DATE:20240630
DTSTAMP:20260420T234640
CREATED:20240306T200302Z
LAST-MODIFIED:20240306T200302Z
UID:993-1719619200-1719705599@deslepers.be
SUMMARY:Folkloremarkt Oostduinkerke
DESCRIPTION:De slepers nemen deel aan de folkloremarkt op het Fabiolaplein in Oostduinkerke
URL:https://deslepers.be/index.php/evenementen/folkloremarkt-oostduinkerke
LOCATION:OOSTDUINKERKE\, OOSTDUINKERKE
END:VEVENT
BEGIN:VEVENT
DTSTART;TZID=Europe/Brussels:20240629T120000
DTEND;TZID=Europe/Brussels:20240629T180000
DTSTAMP:20260420T234640
CREATED:20240306T194034Z
LAST-MODIFIED:20240306T194034Z
UID:969-1719662400-1719684000@deslepers.be
SUMMARY:Garnaalfeesten
DESCRIPTION:Agenda:\n1.	Samenkomst aan centrum Zeedijk Oostduinkerke om 12h15\n2.	Vertrek naar zee om 12h30\n3.	Kruien om 13h00 tot 15h00\n4.	Demonstratie koken garnalen op Zeedijk Oostduinkerke vanaf 16h00
URL:https://deslepers.be/index.php/evenementen/garnaalfeesten-4
LOCATION:ODK-centrum\, Astridplein\, Oostduinkerke\, Belgium\, België
END:VEVENT
BEGIN:VEVENT
DTSTART;VALUE=DATE:20240630
DTEND;VALUE=DATE:20240701
DTSTAMP:20260420T234640
CREATED:20240306T200125Z
LAST-MODIFIED:20240306T200125Z
UID:991-1719705600-1719791999@deslepers.be
SUMMARY:Zeewijding en garnaalstoet
DESCRIPTION:De slepers nemen deel aan de zeewijding en de garnaalstoet in Oostduinkerke
URL:https://deslepers.be/index.php/evenementen/zeewijding-en-garnaalstoet-2
LOCATION:OOSTDUINKERKE\, OOSTDUINKERKE
END:VEVENT
END:VCALENDAR