BEGIN:VCALENDAR
VERSION:2.0
PRODID:-//De Slepers - ECPv6.4.0//NONSGML v1.0//EN
CALSCALE:GREGORIAN
METHOD:PUBLISH
X-WR-CALNAME:De Slepers
X-ORIGINAL-URL:https://deslepers.be
X-WR-CALDESC:Evenementen voor De Slepers
REFRESH-INTERVAL;VALUE=DURATION:PT1H
X-Robots-Tag:noindex
X-PUBLISHED-TTL:PT1H
BEGIN:VTIMEZONE
TZID:Europe/Paris
BEGIN:DAYLIGHT
TZOFFSETFROM:+0100
TZOFFSETTO:+0200
TZNAME:CEST
DTSTART:20220327T010000
END:DAYLIGHT
BEGIN:STANDARD
TZOFFSETFROM:+0200
TZOFFSETTO:+0100
TZNAME:CET
DTSTART:20221030T010000
END:STANDARD
END:VTIMEZONE
BEGIN:VEVENT
DTSTART;TZID=Europe/Paris:20220910T180000
DTEND;TZID=Europe/Paris:20220910T233000
DTSTAMP:20260421T123131
CREATED:20220403T083026Z
LAST-MODIFIED:20220403T083026Z
UID:802-1662832800-1662852600@deslepers.be
SUMMARY:BBQ Kindia
DESCRIPTION:BBQ t.v.v. https://www.kindia.be/ \n  \n 
URL:https://deslepers.be/index.php/evenementen/bbq-kindia
END:VEVENT
BEGIN:VEVENT
DTSTART;TZID=Europe/Paris:20220911T073000
DTEND;TZID=Europe/Paris:20220911T130000
DTSTAMP:20260421T123131
CREATED:20220403T080811Z
LAST-MODIFIED:20220403T080811Z
UID:790-1662881400-1662901200@deslepers.be
SUMMARY:Kermisprijskamp
DESCRIPTION:Agenda: \n\nSamenkomst aan Duinpark Oostduinkerke om 07h30\nVertrek naar zee om 07h45\nKruien om 08h00 tot 10h00\nDemonstratie koken garnalen in Estaminet Peerdevisscher vanaf 12h00
URL:https://deslepers.be/index.php/evenementen/kermisprijskamp-3
LOCATION:DUINPARK\, Fairybankhelling\, Oostduinkerke\, België
END:VEVENT
BEGIN:VEVENT
DTSTART;TZID=Europe/Paris:20220915T100000
DTEND;TZID=Europe/Paris:20220915T130000
DTSTAMP:20260421T123131
CREATED:20220403T083141Z
LAST-MODIFIED:20220403T083141Z
UID:804-1663236000-1663246800@deslepers.be
SUMMARY:Vissersmis
DESCRIPTION:De Slepers nemen deel aan de vissersmis in de kerk te Oostduinkerke met neerlegging bloemenkrans
URL:https://deslepers.be/index.php/evenementen/vissersmis-4
LOCATION:OOSTDUINKERKE\, OOSTDUINKERKE
END:VEVENT
BEGIN:VEVENT
DTSTART;TZID=Europe/Paris:20220917T110000
DTEND;TZID=Europe/Paris:20220917T153000
DTSTAMP:20260421T123131
CREATED:20220403T081025Z
LAST-MODIFIED:20220403T081025Z
UID:792-1663412400-1663428600@deslepers.be
SUMMARY:Clubkruien
DESCRIPTION:Agenda: \n\nSamenkomst aan centrum Zeedijk Oostduinkerke om 11h00\nVertrek naar zee om 11h15\nKruien om 11h30 tot 13h30\nDemonstratie koken garnalen in Estaminet Peerdevisscher vanaf 14h30
URL:https://deslepers.be/index.php/evenementen/clubkruien-14
LOCATION:ODK-centrum\, Astridplein\, Oostduinkerke\, Belgium\, België
END:VEVENT
END:VCALENDAR