BEGIN:VCALENDAR
VERSION:2.0
PRODID:-//De Slepers - ECPv6.4.0//NONSGML v1.0//EN
CALSCALE:GREGORIAN
METHOD:PUBLISH
X-WR-CALNAME:De Slepers
X-ORIGINAL-URL:https://deslepers.be
X-WR-CALDESC:Evenementen voor De Slepers
REFRESH-INTERVAL;VALUE=DURATION:PT1H
X-Robots-Tag:noindex
X-PUBLISHED-TTL:PT1H
BEGIN:VTIMEZONE
TZID:Europe/Paris
BEGIN:DAYLIGHT
TZOFFSETFROM:+0100
TZOFFSETTO:+0200
TZNAME:CEST
DTSTART:20200329T010000
END:DAYLIGHT
BEGIN:STANDARD
TZOFFSETFROM:+0200
TZOFFSETTO:+0100
TZNAME:CET
DTSTART:20201025T010000
END:STANDARD
END:VTIMEZONE
BEGIN:VEVENT
DTSTART;TZID=Europe/Paris:20200711T110500
DTEND;TZID=Europe/Paris:20200711T143500
DTSTAMP:20260421T142043
CREATED:20200223T135803Z
LAST-MODIFIED:20200223T135803Z
UID:686-1594465500-1594478100@deslepers.be
SUMMARY:VVV
DESCRIPTION:Agenda: \n\nSamenkomst aan centrum Zeedijk Oostduinkerke om 11h05\nVertrek naar zee om 11h20\nKruien om 11h35 tot 13h35\nDemonstratie koken en bedelen garnalen aan Zeedijk Oostduinkerke vanaf 13h35
URL:https://deslepers.be/index.php/evenementen/vvv
LOCATION:ODK-centrum\, Astridplein\, Oostduinkerke\, Belgium\, België
END:VEVENT
BEGIN:VEVENT
DTSTART;TZID=Europe/Paris:20200725T101500
DTEND;TZID=Europe/Paris:20200725T134500
DTSTAMP:20260421T142043
CREATED:20200223T140111Z
LAST-MODIFIED:20200223T140111Z
UID:688-1595672100-1595684700@deslepers.be
SUMMARY:VVV
DESCRIPTION:Agenda: \n\nSamenkomst aan centrum Zeedijk Oostduinkerke om 10h15\nVertrek naar zee om 10h30\nKruien om 10h45 tot 12h45\nDemonstratie koken en bedelen garnalen aan Zeedijk Oostduinkerke vanaf 12h45
URL:https://deslepers.be/index.php/evenementen/vvv-2
LOCATION:ODK-centrum\, Astridplein\, Oostduinkerke\, Belgium\, België
END:VEVENT
END:VCALENDAR