BEGIN:VCALENDAR
VERSION:2.0
PRODID:-//De Slepers - ECPv6.4.0//NONSGML v1.0//EN
CALSCALE:GREGORIAN
METHOD:PUBLISH
X-WR-CALNAME:De Slepers
X-ORIGINAL-URL:https://deslepers.be
X-WR-CALDESC:Evenementen voor De Slepers
REFRESH-INTERVAL;VALUE=DURATION:PT1H
X-Robots-Tag:noindex
X-PUBLISHED-TTL:PT1H
BEGIN:VTIMEZONE
TZID:Europe/Paris
BEGIN:DAYLIGHT
TZOFFSETFROM:+0100
TZOFFSETTO:+0200
TZNAME:CEST
DTSTART:20190331T010000
END:DAYLIGHT
BEGIN:STANDARD
TZOFFSETFROM:+0200
TZOFFSETTO:+0100
TZNAME:CET
DTSTART:20191027T010000
END:STANDARD
END:VTIMEZONE
BEGIN:VEVENT
DTSTART;TZID=Europe/Paris:20190706T094500
DTEND;TZID=Europe/Paris:20190706T130000
DTSTAMP:20260424T133304
CREATED:20190303T104718Z
LAST-MODIFIED:20190303T104718Z
UID:621-1562406300-1562418000@deslepers.be
SUMMARY:KRUIEN VVV
DESCRIPTION:Agenda: \n\nSamenkomst aan centrum Zeedijk Oostduinkerke om 09h30\nVertrek naar zee om 09h45\nKruien om 10h00 tot 12h00\nKoken en bedelen garnalen centrum Zeedijk Oostduinkerke vanaf 12h00
URL:https://deslepers.be/index.php/evenementen/kruien-vvv
LOCATION:ODK-centrum\, Astridplein\, Oostduinkerke\, Belgium\, België
END:VEVENT
BEGIN:VEVENT
DTSTART;TZID=Europe/Paris:20190720T092000
DTEND;TZID=Europe/Paris:20190720T133000
DTSTAMP:20260424T133304
CREATED:20190303T105102Z
LAST-MODIFIED:20190303T105102Z
UID:623-1563614400-1563629400@deslepers.be
SUMMARY:KRUIEN VVV
DESCRIPTION:Agenda: \n\nSamenkomst aan centrum Zeedijk Oostduinkerke om 09h05\nVertrek naar zee om 09h20\nKruien om 09h35 tot 12h35\nKoken en bedelen garnalen centrum Zeedijk Oostduinkerke vanaf 12h35
URL:https://deslepers.be/index.php/evenementen/kruien-vvv-2
LOCATION:ODK-centrum\, Astridplein\, Oostduinkerke\, Belgium\, België
END:VEVENT
END:VCALENDAR