BEGIN:VCALENDAR
VERSION:2.0
PRODID:-//De Slepers - ECPv6.4.0//NONSGML v1.0//EN
CALSCALE:GREGORIAN
METHOD:PUBLISH
X-WR-CALNAME:De Slepers
X-ORIGINAL-URL:https://deslepers.be
X-WR-CALDESC:Evenementen voor De Slepers
REFRESH-INTERVAL;VALUE=DURATION:PT1H
X-Robots-Tag:noindex
X-PUBLISHED-TTL:PT1H
BEGIN:VTIMEZONE
TZID:Europe/Brussels
BEGIN:DAYLIGHT
TZOFFSETFROM:+0100
TZOFFSETTO:+0200
TZNAME:CEST
DTSTART:20240331T010000
END:DAYLIGHT
BEGIN:STANDARD
TZOFFSETFROM:+0200
TZOFFSETTO:+0100
TZNAME:CET
DTSTART:20241027T010000
END:STANDARD
END:VTIMEZONE
BEGIN:VEVENT
DTSTART;TZID=Europe/Brussels:20240728T110000
DTEND;TZID=Europe/Brussels:20240728T163000
DTSTAMP:20260421T062220
CREATED:20240306T194418Z
LAST-MODIFIED:20240306T194418Z
UID:973-1722164400-1722184200@deslepers.be
SUMMARY:VVV
DESCRIPTION:Agenda:\n1.	Samenkomst aan centrum Zeedijk Oostduinkerke om 11h40\n2.	Vertrek naar zee om 12h00\n3.	Kruien om 12h15 tot 14h15\n4.	Demonstratie koken garnalen op Zeedijk Oostduinkerke vanaf 15h15
URL:https://deslepers.be/index.php/evenementen/vvv-10
LOCATION:ODK-centrum\, Astridplein\, Oostduinkerke\, Belgium\, België
END:VEVENT
END:VCALENDAR