BEGIN:VCALENDAR
VERSION:2.0
PRODID:-//De Slepers - ECPv6.4.0//NONSGML v1.0//EN
CALSCALE:GREGORIAN
METHOD:PUBLISH
X-WR-CALNAME:De Slepers
X-ORIGINAL-URL:https://deslepers.be
X-WR-CALDESC:Evenementen voor De Slepers
REFRESH-INTERVAL;VALUE=DURATION:PT1H
X-Robots-Tag:noindex
X-PUBLISHED-TTL:PT1H
BEGIN:VTIMEZONE
TZID:Europe/Paris
BEGIN:DAYLIGHT
TZOFFSETFROM:+0100
TZOFFSETTO:+0200
TZNAME:CEST
DTSTART:20200329T010000
END:DAYLIGHT
BEGIN:STANDARD
TZOFFSETFROM:+0200
TZOFFSETTO:+0100
TZNAME:CET
DTSTART:20201025T010000
END:STANDARD
END:VTIMEZONE
BEGIN:VEVENT
DTSTART;TZID=Europe/Paris:20200919T081000
DTEND;TZID=Europe/Paris:20200919T130000
DTSTAMP:20260421T122607
CREATED:20200223T141323Z
LAST-MODIFIED:20200223T141323Z
UID:697-1600503000-1600520400@deslepers.be
SUMMARY:Clubkruien
DESCRIPTION:Agenda: \n\nSamenkomst aan centrum Zeedijk Oostduinkerke om 08h10\nVertrek naar zee om 08h25\nKruien om 08h40 tot 11h40\nDemonstratie koken garnalen Estaminet De Peerdevisscher vanaf 12h00
URL:https://deslepers.be/index.php/evenementen/clubkruien-7
LOCATION:ODK-centrum\, Astridplein\, Oostduinkerke\, Belgium\, België
END:VEVENT
END:VCALENDAR