BEGIN:VCALENDAR
VERSION:2.0
PRODID:-//De Slepers - ECPv6.4.0//NONSGML v1.0//EN
CALSCALE:GREGORIAN
METHOD:PUBLISH
X-WR-CALNAME:De Slepers
X-ORIGINAL-URL:https://deslepers.be
X-WR-CALDESC:Evenementen voor De Slepers
REFRESH-INTERVAL;VALUE=DURATION:PT1H
X-Robots-Tag:noindex
X-PUBLISHED-TTL:PT1H
BEGIN:VTIMEZONE
TZID:Europe/Paris
BEGIN:DAYLIGHT
TZOFFSETFROM:+0100
TZOFFSETTO:+0200
TZNAME:CEST
DTSTART:20200329T010000
END:DAYLIGHT
BEGIN:STANDARD
TZOFFSETFROM:+0200
TZOFFSETTO:+0100
TZNAME:CET
DTSTART:20201025T010000
END:STANDARD
END:VTIMEZONE
BEGIN:VEVENT
DTSTART;TZID=Europe/Paris:20200906T091500
DTEND;TZID=Europe/Paris:20200906T130000
DTSTAMP:20260421T124248
CREATED:20200223T141056Z
LAST-MODIFIED:20200223T141056Z
UID:695-1599383700-1599397200@deslepers.be
SUMMARY:Kermisprijskamp
DESCRIPTION:Agenda: \n\nSamenkomst aan Duinpark\, Oostduinkerke om 09h15\nVertrek naar zee om 09h30\nKruien om 09h45 tot 11h45\nDemonstratie koken en bedelen Estaminet De Peerdevisscher vanaf 12h00
URL:https://deslepers.be/index.php/evenementen/kermisprijskamp-2
LOCATION:DUINPARK\, Fairybankhelling\, Oostduinkerke\, België
END:VEVENT
END:VCALENDAR