BEGIN:VCALENDAR
VERSION:2.0
PRODID:-//De Slepers - ECPv6.4.0//NONSGML v1.0//EN
CALSCALE:GREGORIAN
METHOD:PUBLISH
X-WR-CALNAME:De Slepers
X-ORIGINAL-URL:https://deslepers.be
X-WR-CALDESC:Evenementen voor De Slepers
REFRESH-INTERVAL;VALUE=DURATION:PT1H
X-Robots-Tag:noindex
X-PUBLISHED-TTL:PT1H
BEGIN:VTIMEZONE
TZID:Europe/Paris
BEGIN:DAYLIGHT
TZOFFSETFROM:+0100
TZOFFSETTO:+0200
TZNAME:CEST
DTSTART:20200329T010000
END:DAYLIGHT
BEGIN:STANDARD
TZOFFSETFROM:+0200
TZOFFSETTO:+0100
TZNAME:CET
DTSTART:20201025T010000
END:STANDARD
END:VTIMEZONE
BEGIN:VEVENT
DTSTART;TZID=Europe/Paris:20200905T090000
DTEND;TZID=Europe/Paris:20200905T150000
DTSTAMP:20260421T124248
CREATED:20200223T140655Z
LAST-MODIFIED:20200223T140655Z
UID:692-1599296400-1599318000@deslepers.be
SUMMARY:Kruien WZC Sint-Bernardus
DESCRIPTION:Agenda: \n\nSamenkomst aan Canadezenplein\, De Panne om 09h00\nVertrek naar zee om 09h15\nKruien om 09h30 tot 11h30\nKoken en bedelen garnalen aan de bewoners van WZC Sint Bernardus vanaf 14h00
URL:https://deslepers.be/index.php/evenementen/kruien-wzc-sint-bernardus-2
LOCATION:De Panne\, August Vermeylenlaan\, De Panne\, 8660\, België
END:VEVENT
END:VCALENDAR