BEGIN:VCALENDAR
VERSION:2.0
PRODID:-//De Slepers - ECPv6.4.0//NONSGML v1.0//EN
CALSCALE:GREGORIAN
METHOD:PUBLISH
X-WR-CALNAME:De Slepers
X-ORIGINAL-URL:https://deslepers.be
X-WR-CALDESC:Evenementen voor De Slepers
REFRESH-INTERVAL;VALUE=DURATION:PT1H
X-Robots-Tag:noindex
X-PUBLISHED-TTL:PT1H
BEGIN:VTIMEZONE
TZID:Europe/Paris
BEGIN:DAYLIGHT
TZOFFSETFROM:+0100
TZOFFSETTO:+0200
TZNAME:CEST
DTSTART:20200329T010000
END:DAYLIGHT
BEGIN:STANDARD
TZOFFSETFROM:+0200
TZOFFSETTO:+0100
TZNAME:CET
DTSTART:20201025T010000
END:STANDARD
END:VTIMEZONE
BEGIN:VEVENT
DTSTART;TZID=Europe/Paris:20200628T093000
DTEND;TZID=Europe/Paris:20200628T170000
DTSTAMP:20260421T172937
CREATED:20200223T143010Z
LAST-MODIFIED:20200223T143010Z
UID:714-1593336600-1593363600@deslepers.be
SUMMARY:Zeewijding en garnaalstoet
DESCRIPTION:Zeewijding om 09h30 in de Zomerkapel te Oostduinkerke \nGarnaalstoet vanaf 14h30
URL:https://deslepers.be/index.php/evenementen/zeewijding-en-garnaalstoet
LOCATION:OOSTDUINKERKE\, OOSTDUINKERKE
END:VEVENT
END:VCALENDAR