BEGIN:VCALENDAR
VERSION:2.0
PRODID:-//De Slepers - ECPv6.4.0//NONSGML v1.0//EN
CALSCALE:GREGORIAN
METHOD:PUBLISH
X-WR-CALNAME:De Slepers
X-ORIGINAL-URL:https://deslepers.be
X-WR-CALDESC:Evenementen voor De Slepers
REFRESH-INTERVAL;VALUE=DURATION:PT1H
X-Robots-Tag:noindex
X-PUBLISHED-TTL:PT1H
BEGIN:VTIMEZONE
TZID:Europe/Paris
BEGIN:DAYLIGHT
TZOFFSETFROM:+0100
TZOFFSETTO:+0200
TZNAME:CEST
DTSTART:20200329T010000
END:DAYLIGHT
BEGIN:STANDARD
TZOFFSETFROM:+0200
TZOFFSETTO:+0100
TZNAME:CET
DTSTART:20201025T010000
END:STANDARD
END:VTIMEZONE
BEGIN:VEVENT
DTSTART;TZID=Europe/Paris:20200606T071000
DTEND;TZID=Europe/Paris:20200606T114000
DTSTAMP:20260421T172915
CREATED:20200223T135233Z
LAST-MODIFIED:20200223T135857Z
UID:682-1591427400-1591443600@deslepers.be
SUMMARY:Clubkruien
DESCRIPTION:Agenda: \n\nSamenkomst aan centrum Zeedijk Oostduinkerke om 07h10\nVertrek naar zee om 07h25\nKruien om 07h40 tot 10h40\nDemonstratie koken garnalen aan Zeedijk Oostduinkerke vanaf 10h40
URL:https://deslepers.be/index.php/evenementen/clubkruien-6
LOCATION:ODK-centrum\, Astridplein\, Oostduinkerke\, Belgium\, België
END:VEVENT
END:VCALENDAR