BEGIN:VCALENDAR
VERSION:2.0
PRODID:-//De Slepers - ECPv6.4.0//NONSGML v1.0//EN
CALSCALE:GREGORIAN
METHOD:PUBLISH
X-WR-CALNAME:De Slepers
X-ORIGINAL-URL:https://deslepers.be
X-WR-CALDESC:Evenementen voor De Slepers
REFRESH-INTERVAL;VALUE=DURATION:PT1H
X-Robots-Tag:noindex
X-PUBLISHED-TTL:PT1H
BEGIN:VTIMEZONE
TZID:Europe/Paris
BEGIN:DAYLIGHT
TZOFFSETFROM:+0100
TZOFFSETTO:+0200
TZNAME:CEST
DTSTART:20200329T010000
END:DAYLIGHT
BEGIN:STANDARD
TZOFFSETFROM:+0200
TZOFFSETTO:+0100
TZNAME:CET
DTSTART:20201025T010000
END:STANDARD
END:VTIMEZONE
BEGIN:VEVENT
DTSTART;TZID=Europe/Paris:20200412T100000
DTEND;TZID=Europe/Paris:20200412T133000
DTSTAMP:20260421T205417
CREATED:20200223T134153Z
LAST-MODIFIED:20200223T143800Z
UID:678-1586685600-1586698200@deslepers.be
SUMMARY:VVV Pasen
DESCRIPTION:Agenda: \n\nSamenkomst aan centrum Zeedijk Oostduinkerke om 10h00\nVertrek naar zee om 10h15\nKruien om 10h30 tot 12h30\nDemonstratie koken en bedelen garnalen aan Zeedijk Oostduinkerke vanaf 12h30
URL:https://deslepers.be/index.php/evenementen/vvv-pasen-2
LOCATION:ODK-centrum\, Astridplein\, Oostduinkerke\, Belgium\, België
END:VEVENT
END:VCALENDAR