BEGIN:VCALENDAR
VERSION:2.0
PRODID:-//De Slepers - ECPv6.4.0//NONSGML v1.0//EN
CALSCALE:GREGORIAN
METHOD:PUBLISH
X-ORIGINAL-URL:https://deslepers.be
X-WR-CALDESC:Evenementen voor De Slepers
REFRESH-INTERVAL;VALUE=DURATION:PT1H
X-Robots-Tag:noindex
X-PUBLISHED-TTL:PT1H
BEGIN:VTIMEZONE
TZID:Europe/Paris
BEGIN:DAYLIGHT
TZOFFSETFROM:+0100
TZOFFSETTO:+0200
TZNAME:CEST
DTSTART:20190331T010000
END:DAYLIGHT
BEGIN:STANDARD
TZOFFSETFROM:+0200
TZOFFSETTO:+0100
TZNAME:CET
DTSTART:20191027T010000
END:STANDARD
END:VTIMEZONE
BEGIN:VEVENT
DTSTART;TZID=Europe/Paris:20191019T101500
DTEND;TZID=Europe/Paris:20191019T123000
DTSTAMP:20260422T080718
CREATED:20190303T113323Z
LAST-MODIFIED:20190303T113323Z
UID:638-1571480100-1571488200@deslepers.be
SUMMARY:CLUBKRUIEN
DESCRIPTION:Agenda: \n\nSamenkomst aan St-André\, Oostduinkerke om 10h00\nVertrek naar zee om 10h15\nKruien om 10h30 tot 12h30
URL:https://deslepers.be/index.php/evenementen/clubkruien-4
LOCATION:St-André\, St-André\, De Panne\, 8660\, België
END:VEVENT
END:VCALENDAR