BEGIN:VCALENDAR
VERSION:2.0
PRODID:-//De Slepers - ECPv6.4.0//NONSGML v1.0//EN
CALSCALE:GREGORIAN
METHOD:PUBLISH
X-ORIGINAL-URL:https://deslepers.be
X-WR-CALDESC:Evenementen voor De Slepers
REFRESH-INTERVAL;VALUE=DURATION:PT1H
X-Robots-Tag:noindex
X-PUBLISHED-TTL:PT1H
BEGIN:VTIMEZONE
TZID:Europe/Paris
BEGIN:DAYLIGHT
TZOFFSETFROM:+0100
TZOFFSETTO:+0200
TZNAME:CEST
DTSTART:20190331T010000
END:DAYLIGHT
BEGIN:STANDARD
TZOFFSETFROM:+0200
TZOFFSETTO:+0100
TZNAME:CET
DTSTART:20191027T010000
END:STANDARD
END:VTIMEZONE
BEGIN:VEVENT
DTSTART;TZID=Europe/Paris:20190918T092500
DTEND;TZID=Europe/Paris:20190918T124000
DTSTAMP:20260422T095705
CREATED:20190303T112730Z
LAST-MODIFIED:20190303T112730Z
UID:634-1568798700-1568810400@deslepers.be
SUMMARY:CLUBKRUIEN
DESCRIPTION:Agenda: \n\nSamenkomst aan parking hoek Dynastielaan/A. Vermeylenlaan\, De Panne om 09h10\nVertrek naar zee om 09h25\nKruien om 09h40 tot 11h40\nDemonstratie koken garnalen aan Estaminet De Peerdevisscher (Pastoor Schmitzstraat 4\, 8670 Oostduinkerke) vanaf 11h40
URL:https://deslepers.be/index.php/evenementen/clubkruien-2
LOCATION:De Panne\, August Vermeylenlaan\, De Panne\, 8660\, België
END:VEVENT
END:VCALENDAR