BEGIN:VCALENDAR
VERSION:2.0
PRODID:-//De Slepers - ECPv6.4.0//NONSGML v1.0//EN
CALSCALE:GREGORIAN
METHOD:PUBLISH
X-WR-CALNAME:De Slepers
X-ORIGINAL-URL:https://deslepers.be
X-WR-CALDESC:Evenementen voor De Slepers
REFRESH-INTERVAL;VALUE=DURATION:PT1H
X-Robots-Tag:noindex
X-PUBLISHED-TTL:PT1H
BEGIN:VTIMEZONE
TZID:Europe/Paris
BEGIN:DAYLIGHT
TZOFFSETFROM:+0100
TZOFFSETTO:+0200
TZNAME:CEST
DTSTART:20190331T010000
END:DAYLIGHT
BEGIN:STANDARD
TZOFFSETFROM:+0200
TZOFFSETTO:+0100
TZNAME:CET
DTSTART:20191027T010000
END:STANDARD
END:VTIMEZONE
BEGIN:VEVENT
DTSTART;TZID=Europe/Paris:20190908T143500
DTEND;TZID=Europe/Paris:20190908T170000
DTSTAMP:20260422T095543
CREATED:20190303T112144Z
LAST-MODIFIED:20190303T112309Z
UID:631-1567953300-1567962000@deslepers.be
SUMMARY:KERMISPRIJSKAMP
DESCRIPTION:Agenda: \n\nSamenkomst aan Duinparklaan\, Oostduinkerke (Fairybankhelling) om 14h20\nVertrek naar zee om 14h35\nKruien om 14h50 tot 16h00\nKoken en bedelen garnalen aan Estaminet De Peerdevisscher (Pastoor Schmitzstraat 4\, 8670 Oostduinkerke) vanaf 16h00
URL:https://deslepers.be/index.php/evenementen/kermisprijskamp
LOCATION:DUINPARK\, Fairybankhelling\, Oostduinkerke\, België
END:VEVENT
END:VCALENDAR